BEGIN:VCALENDAR
VERSION:2.0
PRODID:-//Asperger Services Australia - ECPv5.0.2//NONSGML v1.0//EN
CALSCALE:GREGORIAN
METHOD:PUBLISH
X-WR-CALNAME:Asperger Services Australia
X-ORIGINAL-URL:https://asperger.asn.au
X-WR-CALDESC:Events for Asperger Services Australia
BEGIN:VTIMEZONE
TZID:Australia/Brisbane
BEGIN:STANDARD
TZOFFSETFROM:+1000
TZOFFSETTO:+1000
TZNAME:AEST
DTSTART:20200101T000000
END:STANDARD
END:VTIMEZONE
BEGIN:VEVENT
DTSTART;VALUE=DATE:20200127
DTEND;VALUE=DATE:20200128
DTSTAMP:20200224T185020
CREATED:20191206T050040Z
LAST-MODIFIED:20191206T050040Z
UID:11484-1580083200-1580169599@asperger.asn.au
SUMMARY:Australia Day Public Holiday
DESCRIPTION:
URL:https://asperger.asn.au/event/australia-day-public-holiday/
LOCATION:The Asperger Centre\, Unit 1/16 Yarraman Place\, Virginia\, QLD\, 4014\, Australia
GEO:-27.3750383;153.0585293
X-APPLE-STRUCTURED-LOCATION;VALUE=URI;X-ADDRESS=The Asperger Centre Unit 1/16 Yarraman Place Virginia QLD 4014 Australia;X-APPLE-RADIUS=500;X-TITLE=Unit 1/16 Yarraman Place:geo:153.0585293,-27.3750383
END:VEVENT
BEGIN:VEVENT
DTSTART;TZID=Australia/Brisbane:20200128T190000
DTEND;TZID=Australia/Brisbane:20200128T210000
DTSTAMP:20200224T185020
CREATED:20200113T014429Z
LAST-MODIFIED:20200113T015041Z
UID:12848-1580238000-1580245200@asperger.asn.au
SUMMARY:Adult Support Group Meeting
DESCRIPTION:Adult Support Group meets every second and forth Tuesday of the month at the Asperger Centre. \nMeetings are held in the evenings from 7.00 pm to 9.00 pm.\nThis group is a self help discussion group and we would like to receive topics for discussion in advance.\nA contribution fee of $15.00 is requested per session.  You can use your NDIS funding for this group activity.\n\n  \n
URL:https://asperger.asn.au/event/adult-support-group-meeting/2020-01-28/
LOCATION:The Asperger Centre\, Unit 1/16 Yarraman Place\, Virginia\, QLD\, 4014\, Australia
GEO:-27.3750383;153.0585293
X-APPLE-STRUCTURED-LOCATION;VALUE=URI;X-ADDRESS=The Asperger Centre Unit 1/16 Yarraman Place Virginia QLD 4014 Australia;X-APPLE-RADIUS=500;X-TITLE=Unit 1/16 Yarraman Place:geo:153.0585293,-27.3750383
END:VEVENT
BEGIN:VEVENT
DTSTART;TZID=Australia/Brisbane:20200131T183000
DTEND;TZID=Australia/Brisbane:20200131T200000
DTSTAMP:20200224T185020
CREATED:20200113T025356Z
LAST-MODIFIED:20200113T025356Z
UID:13141-1580495400-1580500800@asperger.asn.au
SUMMARY:Youth Group
DESCRIPTION:Youth Group Meetings are held every Friday per school term. \nWhere: The Asperger Centre\, Unit 1\, 16 Yarraman Place\, Virginia  Qld 4014 \nTime: 6.30 pm to 8.00 pm \n\n\n\nTerm 1\n31 January 2020 to 3 April 2020\n\n\nTerm 2\n1 May to 26 June 2020\n\n\nTerm 3\n17 July to 18 September 202\n\n\nTerm 4\n9 October to 11 December 2\n\n\n\nActivities: 6 sessions are held at the Centre and 4 sessions are in the community. The group will discuss the activities to be held during the school term on the first day of the the new Term. \nA contribution fee of $20.00 per session is payable.  You can use your NDIS funding for the group meetings.  You only need to pay when activities are at the Centre.  Outings are to be paid by yourself.  Fees are to be paid in advance.  Thank you for your assistance. \n\n\n
URL:https://asperger.asn.au/event/youth-group-2/2020-01-31/
LOCATION:The Asperger Centre\, Unit 1/16 Yarraman Place\, Virginia\, QLD\, 4014\, Australia
GEO:-27.3750383;153.0585293
X-APPLE-STRUCTURED-LOCATION;VALUE=URI;X-ADDRESS=The Asperger Centre Unit 1/16 Yarraman Place Virginia QLD 4014 Australia;X-APPLE-RADIUS=500;X-TITLE=Unit 1/16 Yarraman Place:geo:153.0585293,-27.3750383
END:VEVENT
BEGIN:VEVENT
DTSTART;TZID=Australia/Brisbane:20200207T183000
DTEND;TZID=Australia/Brisbane:20200207T200000
DTSTAMP:20200224T185020
CREATED:20200113T025356Z
LAST-MODIFIED:20200113T025356Z
UID:13144-1581100200-1581105600@asperger.asn.au
SUMMARY:Youth Group
DESCRIPTION:Youth Group Meetings are held every Friday per school term. \nWhere: The Asperger Centre\, Unit 1\, 16 Yarraman Place\, Virginia  Qld 4014 \nTime: 6.30 pm to 8.00 pm \n\n\n\nTerm 1\n31 January 2020 to 3 April 2020\n\n\nTerm 2\n1 May to 26 June 2020\n\n\nTerm 3\n17 July to 18 September 202\n\n\nTerm 4\n9 October to 11 December 2\n\n\n\nActivities: 6 sessions are held at the Centre and 4 sessions are in the community. The group will discuss the activities to be held during the school term on the first day of the the new Term. \nA contribution fee of $20.00 per session is payable.  You can use your NDIS funding for the group meetings.  You only need to pay when activities are at the Centre.  Outings are to be paid by yourself.  Fees are to be paid in advance.  Thank you for your assistance. \n\n\n
URL:https://asperger.asn.au/event/youth-group-2/2020-02-07/
LOCATION:The Asperger Centre\, Unit 1/16 Yarraman Place\, Virginia\, QLD\, 4014\, Australia
GEO:-27.3750383;153.0585293
X-APPLE-STRUCTURED-LOCATION;VALUE=URI;X-ADDRESS=The Asperger Centre Unit 1/16 Yarraman Place Virginia QLD 4014 Australia;X-APPLE-RADIUS=500;X-TITLE=Unit 1/16 Yarraman Place:geo:153.0585293,-27.3750383
END:VEVENT
BEGIN:VEVENT
DTSTART;TZID=Australia/Brisbane:20200211T190000
DTEND;TZID=Australia/Brisbane:20200211T210000
DTSTAMP:20200224T185020
CREATED:20200113T014429Z
LAST-MODIFIED:20200113T015043Z
UID:12851-1581447600-1581454800@asperger.asn.au
SUMMARY:Adult Support Group Meeting
DESCRIPTION:Adult Support Group meets every second and forth Tuesday of the month at the Asperger Centre. \nMeetings are held in the evenings from 7.00 pm to 9.00 pm.\nThis group is a self help discussion group and we would like to receive topics for discussion in advance.\nA contribution fee of $15.00 is requested per session.  You can use your NDIS funding for this group activity.\n\n  \n
URL:https://asperger.asn.au/event/adult-support-group-meeting/2020-02-11/
LOCATION:The Asperger Centre\, Unit 1/16 Yarraman Place\, Virginia\, QLD\, 4014\, Australia
GEO:-27.3750383;153.0585293
X-APPLE-STRUCTURED-LOCATION;VALUE=URI;X-ADDRESS=The Asperger Centre Unit 1/16 Yarraman Place Virginia QLD 4014 Australia;X-APPLE-RADIUS=500;X-TITLE=Unit 1/16 Yarraman Place:geo:153.0585293,-27.3750383
END:VEVENT
BEGIN:VEVENT
DTSTART;TZID=Australia/Brisbane:20200214T183000
DTEND;TZID=Australia/Brisbane:20200214T200000
DTSTAMP:20200224T185020
CREATED:20200113T025356Z
LAST-MODIFIED:20200113T025356Z
UID:13145-1581705000-1581710400@asperger.asn.au
SUMMARY:Youth Group
DESCRIPTION:Youth Group Meetings are held every Friday per school term. \nWhere: The Asperger Centre\, Unit 1\, 16 Yarraman Place\, Virginia  Qld 4014 \nTime: 6.30 pm to 8.00 pm \n\n\n\nTerm 1\n31 January 2020 to 3 April 2020\n\n\nTerm 2\n1 May to 26 June 2020\n\n\nTerm 3\n17 July to 18 September 202\n\n\nTerm 4\n9 October to 11 December 2\n\n\n\nActivities: 6 sessions are held at the Centre and 4 sessions are in the community. The group will discuss the activities to be held during the school term on the first day of the the new Term. \nA contribution fee of $20.00 per session is payable.  You can use your NDIS funding for the group meetings.  You only need to pay when activities are at the Centre.  Outings are to be paid by yourself.  Fees are to be paid in advance.  Thank you for your assistance. \n\n\n
URL:https://asperger.asn.au/event/youth-group-2/2020-02-14/
LOCATION:The Asperger Centre\, Unit 1/16 Yarraman Place\, Virginia\, QLD\, 4014\, Australia
GEO:-27.3750383;153.0585293
X-APPLE-STRUCTURED-LOCATION;VALUE=URI;X-ADDRESS=The Asperger Centre Unit 1/16 Yarraman Place Virginia QLD 4014 Australia;X-APPLE-RADIUS=500;X-TITLE=Unit 1/16 Yarraman Place:geo:153.0585293,-27.3750383
END:VEVENT
BEGIN:VEVENT
DTSTART;VALUE=DATE:20200218
DTEND;VALUE=DATE:20200219
DTSTAMP:20200224T185020
CREATED:20191206T050115Z
LAST-MODIFIED:20191206T050115Z
UID:11487-1581984000-1582070399@asperger.asn.au
SUMMARY:International Asperger Day
DESCRIPTION:
URL:https://asperger.asn.au/event/international-asperger-day/
LOCATION:The Asperger Centre\, Unit 1/16 Yarraman Place\, Virginia\, QLD\, 4014\, Australia
GEO:-27.3750383;153.0585293
X-APPLE-STRUCTURED-LOCATION;VALUE=URI;X-ADDRESS=The Asperger Centre Unit 1/16 Yarraman Place Virginia QLD 4014 Australia;X-APPLE-RADIUS=500;X-TITLE=Unit 1/16 Yarraman Place:geo:153.0585293,-27.3750383
END:VEVENT
BEGIN:VEVENT
DTSTART;TZID=Australia/Brisbane:20200221T183000
DTEND;TZID=Australia/Brisbane:20200221T200000
DTSTAMP:20200224T185020
CREATED:20200113T025356Z
LAST-MODIFIED:20200113T025356Z
UID:13146-1582309800-1582315200@asperger.asn.au
SUMMARY:Youth Group
DESCRIPTION:Youth Group Meetings are held every Friday per school term. \nWhere: The Asperger Centre\, Unit 1\, 16 Yarraman Place\, Virginia  Qld 4014 \nTime: 6.30 pm to 8.00 pm \n\n\n\nTerm 1\n31 January 2020 to 3 April 2020\n\n\nTerm 2\n1 May to 26 June 2020\n\n\nTerm 3\n17 July to 18 September 202\n\n\nTerm 4\n9 October to 11 December 2\n\n\n\nActivities: 6 sessions are held at the Centre and 4 sessions are in the community. The group will discuss the activities to be held during the school term on the first day of the the new Term. \nA contribution fee of $20.00 per session is payable.  You can use your NDIS funding for the group meetings.  You only need to pay when activities are at the Centre.  Outings are to be paid by yourself.  Fees are to be paid in advance.  Thank you for your assistance. \n\n\n
URL:https://asperger.asn.au/event/youth-group-2/2020-02-21/
LOCATION:The Asperger Centre\, Unit 1/16 Yarraman Place\, Virginia\, QLD\, 4014\, Australia
GEO:-27.3750383;153.0585293
X-APPLE-STRUCTURED-LOCATION;VALUE=URI;X-ADDRESS=The Asperger Centre Unit 1/16 Yarraman Place Virginia QLD 4014 Australia;X-APPLE-RADIUS=500;X-TITLE=Unit 1/16 Yarraman Place:geo:153.0585293,-27.3750383
END:VEVENT
BEGIN:VEVENT
DTSTART;TZID=Australia/Brisbane:20200225T190000
DTEND;TZID=Australia/Brisbane:20200225T210000
DTSTAMP:20200224T185020
CREATED:20200113T014429Z
LAST-MODIFIED:20200113T015050Z
UID:12863-1582657200-1582664400@asperger.asn.au
SUMMARY:Adult Support Group Meeting
DESCRIPTION:Adult Support Group meets every second and forth Tuesday of the month at the Asperger Centre. \nMeetings are held in the evenings from 7.00 pm to 9.00 pm.\nThis group is a self help discussion group and we would like to receive topics for discussion in advance.\nA contribution fee of $15.00 is requested per session.  You can use your NDIS funding for this group activity.\n\n  \n
URL:https://asperger.asn.au/event/adult-support-group-meeting/2020-02-25/
LOCATION:The Asperger Centre\, Unit 1/16 Yarraman Place\, Virginia\, QLD\, 4014\, Australia
GEO:-27.3750383;153.0585293
X-APPLE-STRUCTURED-LOCATION;VALUE=URI;X-ADDRESS=The Asperger Centre Unit 1/16 Yarraman Place Virginia QLD 4014 Australia;X-APPLE-RADIUS=500;X-TITLE=Unit 1/16 Yarraman Place:geo:153.0585293,-27.3750383
END:VEVENT
BEGIN:VEVENT
DTSTART;TZID=Australia/Brisbane:20200228T183000
DTEND;TZID=Australia/Brisbane:20200228T200000
DTSTAMP:20200224T185020
CREATED:20200113T025356Z
LAST-MODIFIED:20200113T025356Z
UID:13147-1582914600-1582920000@asperger.asn.au
SUMMARY:Youth Group
DESCRIPTION:Youth Group Meetings are held every Friday per school term. \nWhere: The Asperger Centre\, Unit 1\, 16 Yarraman Place\, Virginia  Qld 4014 \nTime: 6.30 pm to 8.00 pm \n\n\n\nTerm 1\n31 January 2020 to 3 April 2020\n\n\nTerm 2\n1 May to 26 June 2020\n\n\nTerm 3\n17 July to 18 September 202\n\n\nTerm 4\n9 October to 11 December 2\n\n\n\nActivities: 6 sessions are held at the Centre and 4 sessions are in the community. The group will discuss the activities to be held during the school term on the first day of the the new Term. \nA contribution fee of $20.00 per session is payable.  You can use your NDIS funding for the group meetings.  You only need to pay when activities are at the Centre.  Outings are to be paid by yourself.  Fees are to be paid in advance.  Thank you for your assistance. \n\n\n
URL:https://asperger.asn.au/event/youth-group-2/2020-02-28/
LOCATION:The Asperger Centre\, Unit 1/16 Yarraman Place\, Virginia\, QLD\, 4014\, Australia
GEO:-27.3750383;153.0585293
X-APPLE-STRUCTURED-LOCATION;VALUE=URI;X-ADDRESS=The Asperger Centre Unit 1/16 Yarraman Place Virginia QLD 4014 Australia;X-APPLE-RADIUS=500;X-TITLE=Unit 1/16 Yarraman Place:geo:153.0585293,-27.3750383
END:VEVENT
END:VCALENDAR